BEGIN:VCALENDAR
VERSION:2.0
PRODID:-//Base Library Website 1 - ECPv6.15.20//NONSGML v1.0//EN
CALSCALE:GREGORIAN
METHOD:PUBLISH
X-WR-CALNAME:Base Library Website 1
X-ORIGINAL-URL:https://base1.librarieswin.org
X-WR-CALDESC:Events for Base Library Website 1
REFRESH-INTERVAL;VALUE=DURATION:PT1H
X-Robots-Tag:noindex
X-PUBLISHED-TTL:PT1H
BEGIN:VTIMEZONE
TZID:America/Chicago
BEGIN:DAYLIGHT
TZOFFSETFROM:-0600
TZOFFSETTO:-0500
TZNAME:CDT
DTSTART:20230312T080000
END:DAYLIGHT
BEGIN:STANDARD
TZOFFSETFROM:-0500
TZOFFSETTO:-0600
TZNAME:CST
DTSTART:20231105T070000
END:STANDARD
BEGIN:DAYLIGHT
TZOFFSETFROM:-0600
TZOFFSETTO:-0500
TZNAME:CDT
DTSTART:20240310T080000
END:DAYLIGHT
BEGIN:STANDARD
TZOFFSETFROM:-0500
TZOFFSETTO:-0600
TZNAME:CST
DTSTART:20241103T070000
END:STANDARD
BEGIN:DAYLIGHT
TZOFFSETFROM:-0600
TZOFFSETTO:-0500
TZNAME:CDT
DTSTART:20250309T080000
END:DAYLIGHT
BEGIN:STANDARD
TZOFFSETFROM:-0500
TZOFFSETTO:-0600
TZNAME:CST
DTSTART:20251102T070000
END:STANDARD
END:VTIMEZONE
BEGIN:VEVENT
DTSTART;TZID=America/Chicago:20241128T180000
DTEND;TZID=America/Chicago:20241128T210000
DTSTAMP:20260419T125757
CREATED:20240815T182112Z
LAST-MODIFIED:20241105T213535Z
UID:10000003-1732816800-1732827600@base1.librarieswin.org
SUMMARY:Exciting Event
DESCRIPTION:William Kent Krueger Concert\n			\n				\n				\n				\n				\n				\n			\n				\n				\n				\n				\n				We have been waiting all year to welcome you back to another season of Music Over Menomin! \nThanks to the Friends of the Library\, our generous sponsors for 2024\, we’ll be back in full swing September 28th at 6pm on the library lawn. \nRide your bike and get front row parking\, walk or park in the library lot or the lot next door at 700 Wolske Bay Road. Thanks to our neighbors for sharing their parking lot! \nFREE and open to all! \n			\n				\n				\n				\n				\n				\n  [event_capacity]\n  [event_audience]\n  [event_category]
URL:https://base1.librarieswin.org/calendar/exciting-event/
LOCATION:Sturgeon Bay DCL
CATEGORIES:LEANWI Event
ATTACH;FMTTYPE=image/jpeg:https://base1.librarieswin.org/wp-content/uploads/2024/08/William-Kent-Krueger-300x300-1.jpg
END:VEVENT
BEGIN:VEVENT
DTSTART;TZID=America/Chicago:20241130T180000
DTEND;TZID=America/Chicago:20241130T203000
DTSTAMP:20260419T125757
CREATED:20240815T160327Z
LAST-MODIFIED:20241105T213955Z
UID:10000002-1732989600-1732998600@base1.librarieswin.org
SUMMARY:No Signup Event
DESCRIPTION:Test Event\n			\n				\n				\n				\n				\n				\n			\n				\n				\n				\n				\n				We have been waiting all year to welcome you back to another season of Music Over Menomin! \nThanks to the Friends of the Library\, our generous sponsors for 2024\, we’ll be back in full swing September 30th at 6pm on the library lawn. \nRide your bike and get front row parking\, walk or park in the library lot or the lot next door at 700 Wolske Bay Road. Thanks to our neighbors for sharing their parking lot! \nFREE and open to all! \n			\n				\n				\n				\n				\n				\n  [event_capacity]\n  [event_audience]\n  [event_category]
URL:https://base1.librarieswin.org/calendar/no-signup-event/
LOCATION:Sturgeon Bay DCL
CATEGORIES:Event
ATTACH;FMTTYPE=image/jpeg:https://base1.librarieswin.org/wp-content/uploads/2024/08/michael-perry-300x300-1.jpg
END:VEVENT
END:VCALENDAR